BEGIN:VCALENDAR
VERSION:2.0
PRODID:-//BI-Software-Auswahl | Erleichtert Ihnen die Auswahl! - ECPv4.0//NONSGML v1.0//EN
CALSCALE:GREGORIAN
METHOD:PUBLISH
X-WR-CALNAME:BI-Software-Auswahl | Erleichtert Ihnen die Auswahl!
X-ORIGINAL-URL:http://www.bi-software-auswahl.de
X-WR-CALDESC:Events for BI-Software-Auswahl | Erleichtert Ihnen die Auswahl!
BEGIN:VEVENT
DTSTART;TZID="":20190402T090000
DTEND;TZID="":20190402T100000
DTSTAMP:20260420T091228
CREATED:20190219T084151
LAST-MODIFIED:20190219T084151
UID:2911-1554195600-1554199200@www.bi-software-auswahl.de
SUMMARY:Webinar: Best of Planning 4.0
DESCRIPTION:Strategische Unternehmenssteuerung mit Weitsicht\nVorausdenkend erfolgreich planen.\nSind Sie mit den Planungsinhalten Ihres Planungssystems zufrieden und hat die Planung in Ihrem Unternehmen bereits heute genug Aussagekraft\, um dem Management ausreichend Informationen zur Unternehmensführung bereitzustellen?\n\nErfahren Sie in diesem Webinar\, wie Sie mit dem Ansatz Planning 4.0 sowohl die Planungsqualität verbessern als auch die Planungsprozesse vereinfachen und beschleunigen. Konzeptionell entwirft der Referent mit Ihnen ein umfassendes Bild der neuen und vollkommen integrativen Welt von Planning 4.0 und er zeigt Ihnen\, wie Sie durch Integration von strategischer\, operativer\, rollierender und szenariobasierter Planung mehr Konsistenz und Verbindlichkeit im Hinblick auf die Unternehmensziele bei gleichzeitiger Steigerung der Agilität und Flexibilität erreichen.\n\n\nInhalte dieses Webinars:\n\n- Überblick: Traditionelle Planung versus Planning 4.0\n- Auf den Punkt gebracht: Ganzheitliche Unternehmenssteuerung mit Planning 4.0\n- Ausblick: Wie kann ich Planning 4.0 für meinen Bedarf nutzen?\n
URL:http://www.bi-software-auswahl.de/bi-software-veranstaltungen/webinar-best-of-planning-4-0/
CATEGORIES:Webcast/Webinar
ATTACH;FMTTYPE=image/jpeg:http://www.bi-software-auswahl.de/wp-content/uploads/2013/12/board-logo-big.jpg
END:VEVENT
END:VCALENDAR